BEGIN:VCALENDAR
PRODID:-//github.com/rianjs/ical.net//NONSGML ical.net 4.0//EN
VERSION:2.0
BEGIN:VEVENT
DESCRIPTION:Siste dag før sommerferien
DTEND:20260619T235959
DTSTAMP:20260422T175530Z
DTSTART;VALUE=DATE:20260619
SEQUENCE:0
SUMMARY:Siste dag før sommerferien
UID:85040365-a104-4380-8b4f-e3d02e4d93ff
END:VEVENT
END:VCALENDAR
