BEGIN:VCALENDAR
PRODID:-//github.com/rianjs/ical.net//NONSGML ical.net 4.0//EN
VERSION:2.0
BEGIN:VEVENT
DESCRIPTION:Fridag
DTEND:20270507T000000
DTSTAMP:20260422T175043Z
DTSTART:20270507T000000
SEQUENCE:0
SUMMARY:Fridag
UID:c0cbd8be-8b89-4699-a06c-d63270b8122a
END:VEVENT
END:VCALENDAR
